BEGIN:VCALENDAR
VERSION:2.0
PRODID:-//SvDf - ECPv5.15.0//NONSGML v1.0//EN
CALSCALE:GREGORIAN
METHOD:PUBLISH
X-WR-CALNAME:SvDf
X-ORIGINAL-URL:https://www.svenskadownforeningen.se
X-WR-CALDESC:Händelser för SvDf
BEGIN:VTIMEZONE
TZID:Europe/Stockholm
BEGIN:DAYLIGHT
TZOFFSETFROM:+0100
TZOFFSETTO:+0200
TZNAME:CEST
DTSTART:20260329T010000
END:DAYLIGHT
BEGIN:STANDARD
TZOFFSETFROM:+0200
TZOFFSETTO:+0100
TZNAME:CET
DTSTART:20261025T010000
END:STANDARD
END:VTIMEZONE
BEGIN:VEVENT
DTSTART;TZID=Europe/Stockholm:20260419T100000
DTEND;TZID=Europe/Stockholm:20260419T120000
DTSTAMP:20260420T115056
CREATED:20260413T092356Z
LAST-MODIFIED:20260413T092358Z
UID:14689-1776592800-1776600000@www.svenskadownforeningen.se
SUMMARY:Medlemsträff på Leo’s Lekland med avdelning Örebro
DESCRIPTION:Svenska Downföreningen\, avdelning Örebro\, bjuder in till medlemsträff nu på söndag den 19 april. \n\n\n\nVi samlas på Leo’s Lekland för gemensamt inträde kl. 10.00. För den som vill stannar vi kvar och äter lunch tillsammans kl. 12.00. \n\n\n\nDatum: söndag den 19 april. \n\n\n\nTid: 10.00 – 12.00 \n\n\n\nVar: Leo’s Lekland Örebro. Bolagsvägen 4C. Nära Marieberg köpcentrum\, IKEA\, K-Rauta och Rusta. \n\n\n\nKostnad: Föreningen bjuder på inträdet för hela familjen\, medan lunch bekostas på egen hand. \n\n\n\nAnmälan: Anmäl dig senast onsdag den 15 april till: orebro@svenskadownforeningen.se. Observera att anmälningstiden är kort! \n\n\n\nHar du frågor eller funderingar är du varmt välkommen att kontakta Tove. \n\n\n\nVarmt välkomna! 💛
URL:https://www.svenskadownforeningen.se/event/medlemstraff-pa-leos-lekland-med-avdelning-orebro/
ATTACH;FMTTYPE=image/png:https://www.svenskadownforeningen.se/app/uploads/2026/04/leos_orebro.png
END:VEVENT
END:VCALENDAR