BEGIN:VCALENDAR
VERSION:2.0
PRODID:-//SvDf - ECPv5.15.0//NONSGML v1.0//EN
CALSCALE:GREGORIAN
METHOD:PUBLISH
X-WR-CALNAME:SvDf
X-ORIGINAL-URL:https://www.svenskadownforeningen.se
X-WR-CALDESC:Händelser för SvDf
BEGIN:VTIMEZONE
TZID:Europe/Stockholm
BEGIN:DAYLIGHT
TZOFFSETFROM:+0100
TZOFFSETTO:+0200
TZNAME:CEST
DTSTART:20260329T010000
END:DAYLIGHT
BEGIN:STANDARD
TZOFFSETFROM:+0200
TZOFFSETTO:+0100
TZNAME:CET
DTSTART:20261025T010000
END:STANDARD
END:VTIMEZONE
BEGIN:VEVENT
DTSTART;TZID=Europe/Stockholm:20260502T150000
DTEND;TZID=Europe/Stockholm:20260502T180000
DTSTAMP:20260420T042001
CREATED:20260409T115444Z
LAST-MODIFIED:20260409T115445Z
UID:14680-1777734000-1777744800@www.svenskadownforeningen.se
SUMMARY:Livräddning i simhall med avdelning Skåne
DESCRIPTION:Nu bjuder vi återigen in till vår uppskattade vatteneftermiddag i Klippans simhall – en stund där hela familjen får vara med\, ha roligt och samtidigt stärka sin trygghet i vatten. \n\n\n\nVAR: Klippans simhall \n\n\n\nDATUM: 2 maj \n\n\n\nTID: 15:00–18:00 \n\n\n\nVi blandar lek och glädje med enkla och viktiga moment inom vattenvana och livräddning\, alltid på deltagarnas villkor. Syskon\, föräldrar och ledsagare – alla är välkomna att vara med i gemenskapen. \n\n\n\nInfo: \n\n\n\nEn ledsagare i vattnet per deltagareAnpassade aktiviteter\, alla kan vara medFokus på glädje\, trygghet och delaktighet\n\n\n\nVi bjuder på fika\, för pauser\, skratt och samtal vid bassängkanten. \n\n\n\nDen här dagen är också en perfekt start inför sommarens äventyr – inte minst vår efterlängtade kanotpaddling. \n\n\n\nAnmäl er genom att kontakta johanna.olsson@svenskadownforening.se \n\n\n\nVi längtar efter att få träffa er – både er som varit med tidigare och er som är nyfikna på att vara med för första gången. Varmt välkomna till en eftermiddag i poolen 💦
URL:https://www.svenskadownforeningen.se/event/livraddning-i-simhall-med-avdelning-skane/
ATTACH;FMTTYPE=image/png:https://www.svenskadownforeningen.se/app/uploads/2026/04/simhall.png
END:VEVENT
END:VCALENDAR